BEGIN:VCALENDAR
PRODID:-//Solspace/Calendar 2.x//EN
VERSION:2.0
CALSCALE:GREGORIAN
BEGIN:VEVENT
UID:0095dd363a3cd37df3e388b37b7be992@solspace.com
DTSTAMP:20260425T015013
DTSTART:20250620T110000
DTEND:20250620T130000
SUMMARY:Solid Waste Directors Meeting
END:VEVENT
END:VCALENDAR
