BEGIN:VCALENDAR
PRODID:-//Solspace/Calendar 2.x//EN
VERSION:2.0
CALSCALE:GREGORIAN
BEGIN:VEVENT
UID:efaa7dec18ac190ff11a31ce53083da9@solspace.com
DTSTAMP:20260425T002436
DTSTART;VALUE=DATE:20250723
DTEND;VALUE=DATE:20250724
SUMMARY:SWAAAD Advisory Council
END:VEVENT
END:VCALENDAR
