BEGIN:VCALENDAR
PRODID:-//Solspace/Calendar 2.x//EN
VERSION:2.0
CALSCALE:GREGORIAN
BEGIN:VEVENT
UID:12018415cd4085a32ff3bc4987772b8d@solspace.com
DTSTAMP:20260424T194208
DTSTART;VALUE=DATE:20251022
DTEND;VALUE=DATE:20251023
SUMMARY:SWAAAD Advisory Council
END:VEVENT
END:VCALENDAR
