BEGIN:VCALENDAR
PRODID:-//Solspace/Calendar 2.x//EN
VERSION:2.0
CALSCALE:GREGORIAN
BEGIN:VEVENT
UID:9228e516c59f4ac7649071aae572626a@solspace.com
DTSTAMP:20260425T032311
DTSTART;VALUE=DATE:20250526
DTEND;VALUE=DATE:20250527
SUMMARY:Memorial Day
END:VEVENT
END:VCALENDAR
