BEGIN:VCALENDAR
PRODID:-//Solspace/Calendar 2.x//EN
VERSION:2.0
CALSCALE:GREGORIAN
BEGIN:VEVENT
UID:b1e393023735d6a0504e9fb4cac10569@solspace.com
DTSTAMP:20260425T015013
DTSTART;VALUE=DATE:20250619
DTEND;VALUE=DATE:20250620
SUMMARY:Juneteenth
END:VEVENT
END:VCALENDAR
