BEGIN:VCALENDAR
PRODID:-//Solspace/Calendar 2.x//EN
VERSION:2.0
CALSCALE:GREGORIAN
BEGIN:VEVENT
UID:0129c8683b515fda07f7cdf92a234e52@solspace.com
DTSTAMP:20260425T014851
DTSTART:20250627T100000
DTEND:20250627T130000
SUMMARY:SWTDD Executive Committee Meeting
END:VEVENT
END:VCALENDAR
