BEGIN:VCALENDAR
PRODID:-//Solspace/Calendar 2.x//EN
VERSION:2.0
CALSCALE:GREGORIAN
BEGIN:VEVENT
UID:4bd07cb36199533426acb3b854002c17@solspace.com
DTSTAMP:20260425T001704
DTSTART;VALUE=DATE:20250704
DTEND;VALUE=DATE:20250705
SUMMARY:Independence Day
END:VEVENT
END:VCALENDAR
