BEGIN:VCALENDAR
PRODID:-//Solspace/Calendar 2.x//EN
VERSION:2.0
CALSCALE:GREGORIAN
BEGIN:VEVENT
UID:80e613c35239921b02bd42a6f9ff1860@solspace.com
DTSTAMP:20260425T001159
DTSTART:20250716T100000
DTEND:20250716T130000
SUMMARY:Megasite Meeting
END:VEVENT
END:VCALENDAR
