BEGIN:VCALENDAR
PRODID:-//Solspace/Calendar 2.x//EN
VERSION:2.0
CALSCALE:GREGORIAN
BEGIN:VEVENT
UID:39ed5a153217170c44887f841a51bf41@solspace.com
DTSTAMP:20260424T224111
DTSTART:20250822T100000
DTEND:20250822T130000
SUMMARY:SWTDD Executive Committee Meeting
END:VEVENT
END:VCALENDAR
