BEGIN:VCALENDAR
PRODID:-//Solspace/Calendar 2.x//EN
VERSION:2.0
CALSCALE:GREGORIAN
BEGIN:VEVENT
UID:3db025530c1ab85ac3abf445753f18e0@solspace.com
DTSTAMP:20260424T193801
DTSTART:20251024T100000
DTEND:20251024T130000
SUMMARY:SWTDD Executive Committee Meeting
END:VEVENT
END:VCALENDAR
