BEGIN:VCALENDAR
PRODID:-//Solspace/Calendar 2.x//EN
VERSION:2.0
CALSCALE:GREGORIAN
BEGIN:VEVENT
UID:a4efec88557eec9ac1882e5c9165a57e@solspace.com
DTSTAMP:20260424T180332
DTSTART;VALUE=DATE:20251111
DTEND;VALUE=DATE:20251112
SUMMARY:Veteran's Day
END:VEVENT
END:VCALENDAR
