BEGIN:VCALENDAR
PRODID:-//Solspace/Calendar 2.x//EN
VERSION:2.0
CALSCALE:GREGORIAN
BEGIN:VEVENT
UID:1d3b0edadae1fe4648eb2def90550694@solspace.com
DTSTAMP:20260424T181250
DTSTART;VALUE=DATE:20251126
DTEND;VALUE=DATE:20251129
SUMMARY:Thanksgiving Holiday
END:VEVENT
END:VCALENDAR
