BEGIN:VCALENDAR
PRODID:-//Solspace/Calendar 2.x//EN
VERSION:2.0
CALSCALE:GREGORIAN
BEGIN:VEVENT
UID:01427a62030c353fac9fd863d6f37149@solspace.com
DTSTAMP:20260424T180331
DTSTART:20251219T100000
DTEND:20251219T130000
SUMMARY:SWTDD Executive Committee Meeting
END:VEVENT
END:VCALENDAR
