BEGIN:VCALENDAR
PRODID:-//Solspace/Calendar 2.x//EN
VERSION:2.0
CALSCALE:GREGORIAN
BEGIN:VEVENT
UID:5a9b520d967a4987345e5349c3704923@solspace.com
DTSTAMP:20260424T181315
DTSTART;VALUE=DATE:20251224
DTEND;VALUE=DATE:20251227
SUMMARY:Christmas Holiday
END:VEVENT
END:VCALENDAR
