BEGIN:VCALENDAR
PRODID:-//Solspace/Calendar 2.x//EN
VERSION:2.0
CALSCALE:GREGORIAN
BEGIN:VEVENT
UID:d405dbc75e5db9fbe49854d3100767bf@solspace.com
DTSTAMP:20260425T032323
DTSTART:20250521T100000
DTEND:20250521T120000
SUMMARY:Megasite Board Meeting
END:VEVENT
END:VCALENDAR
