BEGIN:VCALENDAR
PRODID:-//Solspace/Calendar 2.x//EN
VERSION:2.0
CALSCALE:GREGORIAN
BEGIN:VEVENT
UID:ea1bec6441db2c61a2f4fbb12e2c44db@solspace.com
DTSTAMP:20260424T224718
DTSTART;VALUE=DATE:20250802
DTEND;VALUE=DATE:20250806
SUMMARY:TML Conference
END:VEVENT
END:VCALENDAR
