BEGIN:VCALENDAR
PRODID:-//Solspace/Calendar 2.x//EN
VERSION:2.0
CALSCALE:GREGORIAN
BEGIN:VEVENT
UID:0a24f963a5854da802e179da63dd3132@solspace.com
DTSTAMP:20260424T172054
DTSTART;VALUE=DATE:20260216
DTEND;VALUE=DATE:20260217
SUMMARY:Presidents Day
END:VEVENT
END:VCALENDAR
