BEGIN:VCALENDAR
PRODID:-//Solspace/Calendar 2.x//EN
VERSION:2.0
CALSCALE:GREGORIAN
BEGIN:VEVENT
UID:15de9aacabe619f25baecb77cfafb619@solspace.com
DTSTAMP:20260424T153036
DTSTART;VALUE=DATE:20260703
DTEND;VALUE=DATE:20260704
SUMMARY:Independence Day
END:VEVENT
END:VCALENDAR
