BEGIN:VCALENDAR
PRODID:-//Solspace/Calendar 2.x//EN
VERSION:2.0
CALSCALE:GREGORIAN
BEGIN:VEVENT
UID:e661e832aef3c803314f92dc3dd6ba42@solspace.com
DTSTAMP:20260424T165113
DTSTART;VALUE=DATE:20261111
DTEND;VALUE=DATE:20261112
SUMMARY:Veterans Day
END:VEVENT
END:VCALENDAR
