BEGIN:VCALENDAR
PRODID:-//Solspace/Calendar 2.x//EN
VERSION:2.0
CALSCALE:GREGORIAN
BEGIN:VEVENT
UID:f2ba0768391ffcd36fcddc408f036cfb@solspace.com
DTSTAMP:20260424T165736
DTSTART:20261125T184700
DTEND:20261127T184700
SUMMARY:Thanksgiving Holiday
END:VEVENT
END:VCALENDAR
