BEGIN:VCALENDAR
PRODID:-//Solspace/Calendar 2.x//EN
VERSION:2.0
CALSCALE:GREGORIAN
BEGIN:VEVENT
UID:1789971311c48abb01b60b549319495f@solspace.com
DTSTAMP:20260424T165435
DTSTART:20261223T184805
DTEND:20261225T184805
SUMMARY:Christmas Holiday-2026
END:VEVENT
END:VCALENDAR
