BEGIN:VCALENDAR
PRODID:-//Solspace/Calendar 2.x//EN
VERSION:2.0
CALSCALE:GREGORIAN
BEGIN:VEVENT
UID:364dd6b367389de7ade67d9bfe52ed70@solspace.com
DTSTAMP:20260424T163509
DTSTART;VALUE=DATE:20261231
DTEND;VALUE=DATE:20270101
SUMMARY:New Year's Eve
END:VEVENT
END:VCALENDAR
