BEGIN:VCALENDAR
PRODID:-//Solspace/Calendar 2.x//EN
VERSION:2.0
CALSCALE:GREGORIAN
BEGIN:VEVENT
UID:09cecad1d4f8114c6bc8f66e89fa19dd@solspace.com
DTSTAMP:20260424T164042
DTSTART;VALUE=DATE:20270101
DTEND;VALUE=DATE:20270102
SUMMARY:New Years Day
END:VEVENT
END:VCALENDAR
