BEGIN:VCALENDAR
PRODID:-//Solspace/Calendar 2.x//EN
VERSION:2.0
CALSCALE:GREGORIAN
BEGIN:VEVENT
UID:d7826c294af0ec9ffcabdf6143b282f6@solspace.com
DTSTAMP:20260424T171814
DTSTART:20260227T100000
DTEND:20260227T130000
SUMMARY:SWTDD Executive Committee
END:VEVENT
END:VCALENDAR
