BEGIN:VCALENDAR
PRODID:-//Solspace/Calendar 2.x//EN
VERSION:2.0
CALSCALE:GREGORIAN
BEGIN:VEVENT
UID:168f18581fedc5cf7117fc974bb1ebb5@solspace.com
DTSTAMP:20260424T153621
DTSTART:20260626T100000
DTEND:20260626T130000
SUMMARY:SWTDD Executive Committee
END:VEVENT
END:VCALENDAR
