BEGIN:VCALENDAR
PRODID:-//Solspace/Calendar 2.x//EN
VERSION:2.0
CALSCALE:GREGORIAN
BEGIN:VEVENT
UID:8f1443b5e0e043df4da215c85ef9ead6@solspace.com
DTSTAMP:20260424T170829
DTSTART:20260828T100000
DTEND:20260828T130000
SUMMARY:SWTDD Executive Committee
END:VEVENT
END:VCALENDAR
