BEGIN:VCALENDAR
PRODID:-//Solspace/Calendar 2.x//EN
VERSION:2.0
CALSCALE:GREGORIAN
BEGIN:VEVENT
UID:e337e1cfc4347c7a4e3e71fa43d16b1a@solspace.com
DTSTAMP:20260424T165611
DTSTART:20261218T100000
DTEND:20261218T130000
SUMMARY:SWTDD Executive Committee
END:VEVENT
END:VCALENDAR
