BEGIN:VCALENDAR
PRODID:-//Solspace/Calendar 2.x//EN
VERSION:2.0
CALSCALE:GREGORIAN
BEGIN:VEVENT
UID:5274f3b3ce0a09d56e60504c11c5285f@solspace.com
DTSTAMP:20260424T172146
DTSTART;VALUE=DATE:20260223
DTEND;VALUE=DATE:20260225
SUMMARY:TCSA Day on the Hill
END:VEVENT
END:VCALENDAR
