BEGIN:VCALENDAR
PRODID:-//Solspace/Calendar 2.x//EN
VERSION:2.0
CALSCALE:GREGORIAN
BEGIN:VEVENT
UID:9151e43eef841da5c12a70755344d07b@solspace.com
DTSTAMP:20260424T171414
DTSTART;VALUE=DATE:20261001
DTEND;VALUE=DATE:20261002
SUMMARY:SWTDD Charity Golf Tournament
END:VEVENT
END:VCALENDAR
