BEGIN:VCALENDAR
PRODID:-//Solspace/Calendar 2.x//EN
VERSION:2.0
CALSCALE:GREGORIAN
BEGIN:VEVENT
UID:4d208da86b898ef0f44138782c84821a@solspace.com
DTSTAMP:20260424T170532
DTSTART:20260217T090000
DTEND:20260227T120000
SUMMARY:Brownfield Redevelopment area Grant Consultant RFQ Due
END:VEVENT
END:VCALENDAR
